BEGIN:VCALENDAR
VERSION:2.0
PRODID:icalendar-ruby
CALSCALE:GREGORIAN
METHOD:PUBLISH
BEGIN:VEVENT
DTSTAMP:20260423T083821Z
UID:75-1031466@richmondhilluc.ca
DTSTART:20261102T150000Z
DTEND:20261102T163000Z
CLASS:PUBLIC
CREATED:20260422T220638
DESCRIPTION:\nShalom Seekers (RHUC's Monday Morning Study Group) will resum
 e on Monday\, January 12 at 10 a.m. on Zoom. We will continue our discussi
 on of the book MOMENTS IN TIME: Sermons from The United Church of Canada 
 1910 - 2020. On January 12\, we will discuss the second sermon in Chapter
  10 to finish that chapter. \nThe Zoom invitation will be sent out on Sun
 day evening. \nFor more details about the group\, please contact me at b
 ookgirl8@hotmail.com.  \nSandra Loughton \nFacilitator \n
LAST-MODIFIED:20260422T220638
LOCATION:via Zoom
SUMMARY:Shalom Seekers
URL;VALUE=URI:https://richmondhilluc.ca/events/shalom-seekers--75/2026-11-0
 2
ATTACH;FILENAME=Shalom-seekers.jpg;FMTTYPE=image/jpeg:https://dq5pwpg1q8ru0
 .cloudfront.net/2023/06/08/06/54/26/0071701d-2606-4627-8a75-eacad5182b10/S
 halom-seekers.jpg
ATTACH;FILENAME="December 15th, 7pm (6).png";FMTTYPE=image/png:https://dq5p
 wpg1q8ru0.cloudfront.net/2025/08/11/15/15/25/aaa38f12-8b89-493c-8f1a-8fbf6
 a931d0c/December%2015th,%207pm%20(6).png
END:VEVENT
END:VCALENDAR
